BEGIN:VCALENDAR
VERSION:2.0
PRODID:-//eventon.com NONSGML v1.0//EN
CALSCALE:GREGORIAN
METHOD:PUBLISH
BEGIN:VEVENT
UID:69e4deab8eafc
DTSTAMP:20260419T135451Z
DTSTART:20210416T160000Z
DTEND:20210416T170000Z
LOCATION:Zoom
SUMMARY:It's A Spring Affair
DESCRIPTION:Grilled Asparagus with lemon\,  garlic and almonds Golden Cousc
 ous with crispy onions Lemon &amp; Raspberry Roulade\nhttps://chaletsavoief
 aire.com/events/its-a-spring-affair/
URL:https://chaletsavoiefaire.com/events/its-a-spring-affair/
END:VEVENT
END:VCALENDAR